BEGIN:VCALENDAR
VERSION:2.0
PRODID:-//ON Stage Arizona - ECPv6.15.18//NONSGML v1.0//EN
CALSCALE:GREGORIAN
METHOD:PUBLISH
X-WR-CALNAME:ON Stage Arizona
X-ORIGINAL-URL:https://onstageaz.com
X-WR-CALDESC:Events for ON Stage Arizona
REFRESH-INTERVAL;VALUE=DURATION:PT1H
X-Robots-Tag:noindex
X-PUBLISHED-TTL:PT1H
BEGIN:VTIMEZONE
TZID:America/Phoenix
BEGIN:STANDARD
TZOFFSETFROM:-0700
TZOFFSETTO:-0700
TZNAME:MST
DTSTART:20250101T000000
END:STANDARD
END:VTIMEZONE
BEGIN:VEVENT
DTSTART;TZID=America/Phoenix:20260218T193000
DTEND;TZID=America/Phoenix:20260218T213000
DTSTAMP:20260424T114226
CREATED:20260218T010209Z
LAST-MODIFIED:20260218T010209Z
UID:10016709-1771443000-1771450200@onstageaz.com
SUMMARY:The Ten Tenors: 30th Anniversary Tour
DESCRIPTION:Get ready\, North America! The vocal wonder from Down Under\, THE TEN TENORS\, are bringing their electrifying 30th Anniversary World Tour to your shores in 2026! After rave reviews\, standing ovations\, and sold-out tours across Europe and Australia\, these ten talented and charismatic Aussies are thrilled to return to their favorite territory in the world. Read More
URL:https://onstageaz.com/event/the-ten-tenors-30th-anniversary-tour/
LOCATION:Fox Tucson Theatre\, 17 W Congress St\, Tucson\, AZ\, 85701\, United States
CATEGORIES:Music,Stage
ATTACH;FMTTYPE=image/png:https://onstageaz.com/wp-content/uploads/2026/02/Screenshot-2026-02-17-at-6.00.33-PM.png
ORGANIZER;CN="Fox Tucson Theatre":MAILTO:foxinfo@foxtucson.com
END:VEVENT
END:VCALENDAR