BEGIN:VCALENDAR
VERSION:2.0
PRODID:-//ON Stage Arizona - ECPv6.15.18//NONSGML v1.0//EN
CALSCALE:GREGORIAN
METHOD:PUBLISH
X-WR-CALNAME:ON Stage Arizona
X-ORIGINAL-URL:https://onstageaz.com
X-WR-CALDESC:Events for ON Stage Arizona
REFRESH-INTERVAL;VALUE=DURATION:PT1H
X-Robots-Tag:noindex
X-PUBLISHED-TTL:PT1H
BEGIN:VTIMEZONE
TZID:America/Phoenix
BEGIN:STANDARD
TZOFFSETFROM:-0700
TZOFFSETTO:-0700
TZNAME:MST
DTSTART:20250101T000000
END:STANDARD
END:VTIMEZONE
BEGIN:VEVENT
DTSTART;TZID=America/Phoenix:20260217T100000
DTEND;TZID=America/Phoenix:20260217T110000
DTSTAMP:20260424T113637
CREATED:20260218T005353Z
LAST-MODIFIED:20260218T005353Z
UID:10016707-1771322400-1771326000@onstageaz.com
SUMMARY:250 Years of America: A historical experience of history!
DESCRIPTION:As the nation gears up for its 250th birthday\, offer your students a unique and engaging glimpse into the formative years of the USA. This isn’t just another history lesson; it’s an immersive experience that brings the past to life! \nJoin us at the historic Fox Theatre for a captivating program featuring carefully selected silent movie clips that offer glimpses into pivotal moments in early American history\, from the American Revolution and the Civil War to gold rushes and the Great Depression. \nBut the magic doesn’t stop there! An acclaimed theatre organist will grace the stage to accompany the film segments live\, giving attendees a truly authentic experience:  silent movies backed by a theatre organ in the 1920’s “Picture Palace” that is the Fox!  This historical show will transport your students to another time\, making history tangible and unforgettable. \nWhat better way to connect with the past than by experiencing it in such a historically rich and engaging way?
URL:https://onstageaz.com/event/250-years-of-america-a-historical-experience-of-history/
LOCATION:Fox Tucson Theatre\, 17 W Congress St\, Tucson\, AZ\, 85701\, United States
CATEGORIES:Stage,Theatrical
ATTACH;FMTTYPE=image/png:https://onstageaz.com/wp-content/uploads/2026/02/Screenshot-2026-02-17-at-5.51.57-PM.png
ORGANIZER;CN="Fox Tucson Theatre":MAILTO:foxinfo@foxtucson.com
END:VEVENT
BEGIN:VEVENT
DTSTART;TZID=America/Phoenix:20260217T190000
DTEND;TZID=America/Phoenix:20260217T210000
DTSTAMP:20260424T113637
CREATED:20260218T005747Z
LAST-MODIFIED:20260218T005747Z
UID:10016708-1771354800-1771362000@onstageaz.com
SUMMARY:Red White and Blue American Music Tribute & “Safety Last” Film: Featuring the Mighty Wurlitzer Organ
DESCRIPTION:This SHOW of Musical Americana will showcase Armed Forces and Patriotic Music from composers John Phillip Sousa\, George M. Cohan as well as selections from the Great American Songbook\, featuring hit tunes by composers such as George Gershwin\, Irving Berlin\, Cole Porter… AND\, some RAGTIME added into the mix…”
URL:https://onstageaz.com/event/red-white-and-blue-american-music-tribute-safety-last-film-featuring-the-mighty-wurlitzer-organ/
LOCATION:Fox Tucson Theatre\, 17 W Congress St\, Tucson\, AZ\, 85701\, United States
CATEGORIES:film,Music,Stage
ATTACH;FMTTYPE=image/png:https://onstageaz.com/wp-content/uploads/2026/02/Screenshot-2026-02-17-at-5.55.50-PM.png
ORGANIZER;CN="Fox Tucson Theatre":MAILTO:foxinfo@foxtucson.com
END:VEVENT
END:VCALENDAR