BEGIN:VCALENDAR
VERSION:2.0
PRODID:-//ON Stage Arizona - ECPv6.15.18//NONSGML v1.0//EN
CALSCALE:GREGORIAN
METHOD:PUBLISH
X-WR-CALNAME:ON Stage Arizona
X-ORIGINAL-URL:https://onstageaz.com
X-WR-CALDESC:Events for ON Stage Arizona
REFRESH-INTERVAL;VALUE=DURATION:PT1H
X-Robots-Tag:noindex
X-PUBLISHED-TTL:PT1H
BEGIN:VTIMEZONE
TZID:America/Phoenix
BEGIN:STANDARD
TZOFFSETFROM:-0700
TZOFFSETTO:-0700
TZNAME:MST
DTSTART:20250101T000000
END:STANDARD
END:VTIMEZONE
BEGIN:VEVENT
DTSTART;TZID=America/Phoenix:20260216T090000
DTEND;TZID=America/Phoenix:20260216T170000
DTSTAMP:20260424T114226
CREATED:20251123T231207Z
LAST-MODIFIED:20251123T231207Z
UID:10016424-1771232400-1771261200@onstageaz.com
SUMMARY:Umbral/Threshold: Andrés Caballero\, Marcus Xavier Cormicle\, Beihua Guo\, Ulises Ramos and Vanessa Saavedra: Opening
DESCRIPTION:“Umbral/Threshold” brings together the diverse visions of Andrés Caballero\, Marcus Xavier Cormicle\, Beihua Guo\, Ulises Ramos and Vanessa Saavedra in a compelling exploration of boundaries\, transitions and points of passage. Through varied media and perspectives\, each artist invites viewers to reflect on moments of change\, whether physical\, emotional or cultural\, where one state transforms into another. The exhibition offers a dynamic interplay of form\, color and narrative\, encouraging audiences to step across the threshold into new ways of seeing and understanding. The five artists examine Bachelor’s and Master’s of fine arts programs. Three or the artists are current candidates for their M.F.A. degrees in the University of Arizona School of Art.
URL:https://onstageaz.com/event/umbral-threshold-andres-caballero-marcus-xavier-cormicle-beihua-guo-ulises-ramos-and-vanessa-saavedra-opening/
LOCATION:AZ
CATEGORIES:Exhibits,Stage
ATTACH;FMTTYPE=image/jpeg:https://onstageaz.com/wp-content/uploads/2025/11/yqN0KRm4.jpg
ORGANIZER;CN="Pima Arts":MAILTO:centerforthearts@pima.edu
END:VEVENT
END:VCALENDAR