BEGIN:VCALENDAR
VERSION:2.0
PRODID:-//ON Stage Arizona - ECPv6.15.18//NONSGML v1.0//EN
CALSCALE:GREGORIAN
METHOD:PUBLISH
X-WR-CALNAME:ON Stage Arizona
X-ORIGINAL-URL:https://onstageaz.com
X-WR-CALDESC:Events for ON Stage Arizona
REFRESH-INTERVAL;VALUE=DURATION:PT1H
X-Robots-Tag:noindex
X-PUBLISHED-TTL:PT1H
BEGIN:VTIMEZONE
TZID:America/Phoenix
BEGIN:STANDARD
TZOFFSETFROM:-0700
TZOFFSETTO:-0700
TZNAME:MST
DTSTART:20250101T000000
END:STANDARD
END:VTIMEZONE
BEGIN:VEVENT
DTSTART;TZID=America/Phoenix:20260207T140000
DTEND;TZID=America/Phoenix:20260207T160000
DTSTAMP:20260424T114150
CREATED:20250623T231213Z
LAST-MODIFIED:20250623T231213Z
UID:10013224-1770472800-1770480000@onstageaz.com
SUMMARY:Madama Butterfly
DESCRIPTION:Immerse yourself in PucciniÕs timeless masterpiece\, Madama Butterfly\, a story of hope\, longing\, and ultimate sacrifice. With some of the most exquisite arias and tender duets ever composed\, this deeply moving opera follows the young geisha Cio Cio San as she dreams of a life of love with Pinkerton\, an American naval officer. As the tale unfolds\, betrayal and heartbreak cast their shadow\, leading to an unforgettable climax. Experience an operatic journey of unmatched beauty and emotional depth that has captivated audiences for generations.
URL:https://onstageaz.com/event/madama-butterfly-2/
LOCATION:The Linda Ronstadt Music Hall\, 260 S Church Ave\, Tucson\, AZ\, 85701\, United States
CATEGORIES:Music,Stage
ATTACH;FMTTYPE=image/jpeg:https://onstageaz.com/wp-content/uploads/2025/05/6twzSH0Y.jpg
ORGANIZER;CN="Arizona Opera":MAILTO:INFO@AZOPERA.ORG
END:VEVENT
BEGIN:VEVENT
DTSTART;TZID=America/Phoenix:20260207T140000
DTEND;TZID=America/Phoenix:20260207T160000
DTSTAMP:20260424T114150
CREATED:20250706T222617Z
LAST-MODIFIED:20250706T222617Z
UID:10013005-1770472800-1770480000@onstageaz.com
SUMMARY:Ain't Misbehavin'
DESCRIPTION:Ain’t Misbehavin’ at the Temple of Music and Art in Tucson\, Arizona\nArizona Theatre Company presents Ain’t Misbehavin’\, a jubilant tribute to Fats Waller’s enduring legacy. This award-winning musical revue brings the swing and jazz of the Harlem Renaissance to life on stage. \nThe show celebrates Waller’s timeless music with high-energy performances. A cast of extraordinary singers and dancers transports you to 1920s New York. Feel the beat of an onstage big band powering each number. Enjoy iconic hits like “Honeysuckle Rose” and the title song “Ain’t Misbehavin’.” Each tune bursts with soulful melodies and infectious swing rhythms. \nAin’t Misbehavin’ won three Tony Awards for Best Musical Revue. Critics rave about its sassy style and heartfelt performances. The production recreates the intimate atmosphere of historic jazz clubs. Costumes and set design evoke the glamour of the jazz age. Lighting accentuates every mood\, from sultry ballads to jubilant uptempo numbers. \nTemple of Music and Art provides the perfect setting for this dazzling revue. The historic venue offers superb acoustics and clear sightlines from every seat. Its elegant architecture enhances the show’s vintage charm. Located in downtown Tucson\, the theater is easily accessible and surrounded by dining and entertainment options. \nAin’t Misbehavin’ runs throughout Arizona Theatre Company’s season. It’s ideal for jazz lovers\, swing fans\, and musical theater enthusiasts. Perfect for date nights\, group outings\, and special celebrations. Tickets sell quickly due to high demand. Reserve early to secure your preferred seats. \nVisit the Arizona Theatre Company website to purchase tickets. Experience the joy\, beauty\, and energy of Ain’t Misbehavin’ live on stage. Don’t miss this dazzling celebration of jazz history.
URL:https://onstageaz.com/event/aint-misbehavin-2/2026-02-07/1/
LOCATION:Temple of Music and Art\, 330 S Scott Ave\, Tucson\, AZ\, 85701\, United States
CATEGORIES:Stage,Theatrical
ATTACH;FMTTYPE=image/jpeg:https://onstageaz.com/wp-content/uploads/2025/05/8wo-KOL8.jpg
ORGANIZER;CN="Arizona Theatre Company":MAILTO:boxoffice@atc.org
END:VEVENT
BEGIN:VEVENT
DTSTART;TZID=America/Phoenix:20260207T140000
DTEND;TZID=America/Phoenix:20260207T160000
DTSTAMP:20260424T114150
CREATED:20250917T234446Z
LAST-MODIFIED:20250917T234446Z
UID:10014818-1770472800-1770480000@onstageaz.com
SUMMARY:Funny Girl
DESCRIPTION:Featuring one of the greatest musical scores of all time\, including classic songs “Don’t Rain On My Parade” and “People\,” this bittersweet comedy is based on the true story of the indomitable Fanny Brice\, a girl from the Lower East Side who dreamed of a life on the stage. Determined to become a big star\, she headed into showbiz despite warnings from her mother and friends that she wasn’t a ‘typical beauty.’ Then something funny happened—she became one of the most beloved performers in history\, shining brighter than the brightest lights of Broadway.
URL:https://onstageaz.com/event/funny-girl/2026-02-07/1/
LOCATION:Arts Express Theatre\, 5870 E. Broadway Blvd.\, Ste. 214\, Tucson\,\, AZ\, 85737\, United States
CATEGORIES:Stage,Theatrical
ATTACH;FMTTYPE=image/png:https://onstageaz.com/wp-content/uploads/2025/09/Screenshot-2025-09-17-at-4.41.06-PM.png
ORGANIZER;CN="Arts Express":MAILTO:info@arts-express.org
END:VEVENT
BEGIN:VEVENT
DTSTART;TZID=America/Phoenix:20260207T140000
DTEND;TZID=America/Phoenix:20260207T170000
DTSTAMP:20260424T114150
CREATED:20260126T225245Z
LAST-MODIFIED:20260126T225245Z
UID:10016611-1770472800-1770483600@onstageaz.com
SUMMARY:AET Presents the Classic Hit Musical\, “Funny Girl”
DESCRIPTION:“Don’t rain on my parade…;” be sure to catch the blockbuster classic musical\, “Funny Girl!” Based on the life of famed Follies headliner Fanny Brice\, and made popular by the 1968 film starring Barbra Streisand and Omar Sharif\, “Funny Girl” is a beloved gem in the musical theatre catalog. Don’t miss your chance to catch this multi-Tony nominated\, recently Broadway revived hit\, fully LIVE Arts Express Theatre\, running January 23-February 15. Performances are Fridays and Saturdays at 7 p.m.\, and Saturday and Sunday Matinees at 2 p.m. \nFanny Brice (Julia Waters) dreams of one day becoming a “Ziegfeld” girl\, only there’s one problem… all the neighbors agree\, an Atlantic City beauty queen she is not. But Fanny is talented and full of wit\, comedy\, and plenty of drive\, so when Fanny meets vaudeville dancer\, Eddie (Kevin Orduño)\, she convinces him to help her get her foot in the door. \nSoon Fanny’s off-beat\, star-like quality propels her to the Ziegfeld follies\, and after a show she meets handsome\, charming high roller Nick Arnstein (Matt Milne). As Fanny’s fame grows and she headlines a tour\, Nick is her biggest fan\, and soon Nick and Fanny fall in love. Despite warnings about his gambling ways\, Fanny grows tired of people telling her what to do and decides to go after Nick to become a “Sadie\,” married lady. \nWhile Fanny has achieved fame\, money\, and now a husband and a baby\, Nick\, ever eager to be the breadwinner\, continues to take bigger risks to win money for his lifestyle. Desperate for investors in his latest scheme\, Nick approaches Mr. Ziegfeld (Tom Spencer) himself\, but he declines\, and Fanny uses her fortune instead. As Nick and Fanny’s relationship problems comes to a head\, Fanny’s mother\, Mrs. Brice (Amy Williams)\, holds up a mirror to her life and shows her the reality. Hopeful to the last\, even after Nick has served prison time for fraud\, Fanny tries to reconcile. Knowing it can’t ever work\, Fanny finally comes to terms with who she is and realizes she’s “beat” her drum and given life her all\, and forges ahead into her new path without Nick. \nWith billboard top hits like “People\,” a stunning score by Jule Styne\, lyrics by Bob Merrill\, and book by Isobel Lennart\, every musical theatre lover won’t want to miss the chance to see “Funny Girl!” \n“Funny Girl” is Directed by Dana Milne\, with Music Direction by Luke Diamond and Choreography by Simone Jolivet-Manuel. \nFor tickets\, visit www.arts-express.org or call the Arts Express Theatre Box Office at (520) 319-0400.
URL:https://onstageaz.com/event/aet-presents-the-classic-hit-musical-funny-girl-6/
LOCATION:Arts Express Theatre\, 5870 E. Broadway Blvd.\, Ste. 214\, Tucson\,\, AZ\, 85737\, United States
CATEGORIES:Theatrical
ATTACH;FMTTYPE=image/jpeg:https://onstageaz.com/wp-content/uploads/2026/01/1920_1080_Funny_Girl_Logo-11.jpg
ORGANIZER;CN="Arts Express Theatre":MAILTO:info@arts-express.org
END:VEVENT
BEGIN:VEVENT
DTSTART;TZID=America/Phoenix:20260207T190000
DTEND;TZID=America/Phoenix:20260207T210000
DTSTAMP:20260424T114150
CREATED:20250917T234446Z
LAST-MODIFIED:20250917T234446Z
UID:10014819-1770490800-1770498000@onstageaz.com
SUMMARY:Funny Girl
DESCRIPTION:Featuring one of the greatest musical scores of all time\, including classic songs “Don’t Rain On My Parade” and “People\,” this bittersweet comedy is based on the true story of the indomitable Fanny Brice\, a girl from the Lower East Side who dreamed of a life on the stage. Determined to become a big star\, she headed into showbiz despite warnings from her mother and friends that she wasn’t a ‘typical beauty.’ Then something funny happened—she became one of the most beloved performers in history\, shining brighter than the brightest lights of Broadway.
URL:https://onstageaz.com/event/funny-girl/2026-02-07/2/
LOCATION:Arts Express Theatre\, 5870 E. Broadway Blvd.\, Ste. 214\, Tucson\,\, AZ\, 85737\, United States
CATEGORIES:Stage,Theatrical
ATTACH;FMTTYPE=image/png:https://onstageaz.com/wp-content/uploads/2025/09/Screenshot-2025-09-17-at-4.41.06-PM.png
ORGANIZER;CN="Arts Express":MAILTO:info@arts-express.org
END:VEVENT
BEGIN:VEVENT
DTSTART;TZID=America/Phoenix:20260207T190000
DTEND;TZID=America/Phoenix:20260207T220000
DTSTAMP:20260424T114150
CREATED:20260126T225229Z
LAST-MODIFIED:20260126T225229Z
UID:10016612-1770490800-1770501600@onstageaz.com
SUMMARY:AET Presents the Classic Hit Musical\, “Funny Girl”
DESCRIPTION:“Don’t rain on my parade…;” be sure to catch the blockbuster classic musical\, “Funny Girl!” Based on the life of famed Follies headliner Fanny Brice\, and made popular by the 1968 film starring Barbra Streisand and Omar Sharif\, “Funny Girl” is a beloved gem in the musical theatre catalog. Don’t miss your chance to catch this multi-Tony nominated\, recently Broadway revived hit\, fully LIVE Arts Express Theatre\, running January 23-February 15. Performances are Fridays and Saturdays at 7 p.m.\, and Saturday and Sunday Matinees at 2 p.m. \nFanny Brice (Julia Waters) dreams of one day becoming a “Ziegfeld” girl\, only there’s one problem… all the neighbors agree\, an Atlantic City beauty queen she is not. But Fanny is talented and full of wit\, comedy\, and plenty of drive\, so when Fanny meets vaudeville dancer\, Eddie (Kevin Orduño)\, she convinces him to help her get her foot in the door. \nSoon Fanny’s off-beat\, star-like quality propels her to the Ziegfeld follies\, and after a show she meets handsome\, charming high roller Nick Arnstein (Matt Milne). As Fanny’s fame grows and she headlines a tour\, Nick is her biggest fan\, and soon Nick and Fanny fall in love. Despite warnings about his gambling ways\, Fanny grows tired of people telling her what to do and decides to go after Nick to become a “Sadie\,” married lady. \nWhile Fanny has achieved fame\, money\, and now a husband and a baby\, Nick\, ever eager to be the breadwinner\, continues to take bigger risks to win money for his lifestyle. Desperate for investors in his latest scheme\, Nick approaches Mr. Ziegfeld (Tom Spencer) himself\, but he declines\, and Fanny uses her fortune instead. As Nick and Fanny’s relationship problems comes to a head\, Fanny’s mother\, Mrs. Brice (Amy Williams)\, holds up a mirror to her life and shows her the reality. Hopeful to the last\, even after Nick has served prison time for fraud\, Fanny tries to reconcile. Knowing it can’t ever work\, Fanny finally comes to terms with who she is and realizes she’s “beat” her drum and given life her all\, and forges ahead into her new path without Nick. \nWith billboard top hits like “People\,” a stunning score by Jule Styne\, lyrics by Bob Merrill\, and book by Isobel Lennart\, every musical theatre lover won’t want to miss the chance to see “Funny Girl!” \n“Funny Girl” is Directed by Dana Milne\, with Music Direction by Luke Diamond and Choreography by Simone Jolivet-Manuel. \nFor tickets\, visit www.arts-express.org or call the Arts Express Theatre Box Office at (520) 319-0400.
URL:https://onstageaz.com/event/aet-presents-the-classic-hit-musical-funny-girl-5/
LOCATION:Arts Express Theatre\, 5870 E. Broadway Blvd.\, Ste. 214\, Tucson\,\, AZ\, 85737\, United States
CATEGORIES:Theatrical
ATTACH;FMTTYPE=image/jpeg:https://onstageaz.com/wp-content/uploads/2026/01/1920_1080_Funny_Girl_Logo-12.jpg
ORGANIZER;CN="Arts Express Theatre":MAILTO:info@arts-express.org
END:VEVENT
BEGIN:VEVENT
DTSTART;TZID=America/Phoenix:20260207T193000
DTEND;TZID=America/Phoenix:20260207T213000
DTSTAMP:20260424T114150
CREATED:20250706T222617Z
LAST-MODIFIED:20250706T222617Z
UID:10013006-1770492600-1770499800@onstageaz.com
SUMMARY:Ain't Misbehavin'
DESCRIPTION:Ain’t Misbehavin’ at the Temple of Music and Art in Tucson\, Arizona\nArizona Theatre Company presents Ain’t Misbehavin’\, a jubilant tribute to Fats Waller’s enduring legacy. This award-winning musical revue brings the swing and jazz of the Harlem Renaissance to life on stage. \nThe show celebrates Waller’s timeless music with high-energy performances. A cast of extraordinary singers and dancers transports you to 1920s New York. Feel the beat of an onstage big band powering each number. Enjoy iconic hits like “Honeysuckle Rose” and the title song “Ain’t Misbehavin’.” Each tune bursts with soulful melodies and infectious swing rhythms. \nAin’t Misbehavin’ won three Tony Awards for Best Musical Revue. Critics rave about its sassy style and heartfelt performances. The production recreates the intimate atmosphere of historic jazz clubs. Costumes and set design evoke the glamour of the jazz age. Lighting accentuates every mood\, from sultry ballads to jubilant uptempo numbers. \nTemple of Music and Art provides the perfect setting for this dazzling revue. The historic venue offers superb acoustics and clear sightlines from every seat. Its elegant architecture enhances the show’s vintage charm. Located in downtown Tucson\, the theater is easily accessible and surrounded by dining and entertainment options. \nAin’t Misbehavin’ runs throughout Arizona Theatre Company’s season. It’s ideal for jazz lovers\, swing fans\, and musical theater enthusiasts. Perfect for date nights\, group outings\, and special celebrations. Tickets sell quickly due to high demand. Reserve early to secure your preferred seats. \nVisit the Arizona Theatre Company website to purchase tickets. Experience the joy\, beauty\, and energy of Ain’t Misbehavin’ live on stage. Don’t miss this dazzling celebration of jazz history.
URL:https://onstageaz.com/event/aint-misbehavin-2/2026-02-07/2/
LOCATION:Temple of Music and Art\, 330 S Scott Ave\, Tucson\, AZ\, 85701\, United States
CATEGORIES:Stage,Theatrical
ATTACH;FMTTYPE=image/jpeg:https://onstageaz.com/wp-content/uploads/2025/05/8wo-KOL8.jpg
ORGANIZER;CN="Arizona Theatre Company":MAILTO:boxoffice@atc.org
END:VEVENT
END:VCALENDAR