BEGIN:VCALENDAR
VERSION:2.0
PRODID:-//ON Stage Arizona - ECPv6.15.18//NONSGML v1.0//EN
CALSCALE:GREGORIAN
METHOD:PUBLISH
X-WR-CALNAME:ON Stage Arizona
X-ORIGINAL-URL:https://onstageaz.com
X-WR-CALDESC:Events for ON Stage Arizona
REFRESH-INTERVAL;VALUE=DURATION:PT1H
X-Robots-Tag:noindex
X-PUBLISHED-TTL:PT1H
BEGIN:VTIMEZONE
TZID:America/Phoenix
BEGIN:STANDARD
TZOFFSETFROM:-0700
TZOFFSETTO:-0700
TZNAME:MST
DTSTART:20250101T000000
END:STANDARD
END:VTIMEZONE
BEGIN:VEVENT
DTSTART;TZID=America/Phoenix:20260205T170000
DTEND;TZID=America/Phoenix:20260205T190000
DTSTAMP:20260424T114150
CREATED:20251123T231116Z
LAST-MODIFIED:20251123T231116Z
UID:10016423-1770310800-1770318000@onstageaz.com
SUMMARY:Artes Gráficas de Oaxaca: Rodolfo Morales\, Francisco Toledo and Other Graphic Artists: Reception
DESCRIPTION:Rufino Tamayo\, Francisco Toledo\, Rodolfo Morales and Rodolfo Nieto are the pillars of modern artes gráficas in Oaxaca\, Mexico. Their works\, along with works by other other gráfica artists from the collection of Nancy Mayagoitia and her husband Poncho\, will be featured. The couple long have collected prints and paintings representing the rich heritage of artists living in the Mexican state of Oaxaca.
URL:https://onstageaz.com/event/artes-graficas-de-oaxaca-rodolfo-morales-francisco-toledo-and-other-graphic-artists-reception/
LOCATION:AZ
CATEGORIES:Exhibits,Stage
ATTACH;FMTTYPE=image/jpeg:https://onstageaz.com/wp-content/uploads/2025/11/3v0M6G00-1.jpg
ORGANIZER;CN="Pima Arts":MAILTO:centerforthearts@pima.edu
END:VEVENT
BEGIN:VEVENT
DTSTART;TZID=America/Phoenix:20260205T193000
DTEND;TZID=America/Phoenix:20260205T213000
DTSTAMP:20260424T114150
CREATED:20250706T222617Z
LAST-MODIFIED:20250706T222617Z
UID:10013003-1770319800-1770327000@onstageaz.com
SUMMARY:Ain't Misbehavin'
DESCRIPTION:Ain’t Misbehavin’ at the Temple of Music and Art in Tucson\, Arizona\nArizona Theatre Company presents Ain’t Misbehavin’\, a jubilant tribute to Fats Waller’s enduring legacy. This award-winning musical revue brings the swing and jazz of the Harlem Renaissance to life on stage. \nThe show celebrates Waller’s timeless music with high-energy performances. A cast of extraordinary singers and dancers transports you to 1920s New York. Feel the beat of an onstage big band powering each number. Enjoy iconic hits like “Honeysuckle Rose” and the title song “Ain’t Misbehavin’.” Each tune bursts with soulful melodies and infectious swing rhythms. \nAin’t Misbehavin’ won three Tony Awards for Best Musical Revue. Critics rave about its sassy style and heartfelt performances. The production recreates the intimate atmosphere of historic jazz clubs. Costumes and set design evoke the glamour of the jazz age. Lighting accentuates every mood\, from sultry ballads to jubilant uptempo numbers. \nTemple of Music and Art provides the perfect setting for this dazzling revue. The historic venue offers superb acoustics and clear sightlines from every seat. Its elegant architecture enhances the show’s vintage charm. Located in downtown Tucson\, the theater is easily accessible and surrounded by dining and entertainment options. \nAin’t Misbehavin’ runs throughout Arizona Theatre Company’s season. It’s ideal for jazz lovers\, swing fans\, and musical theater enthusiasts. Perfect for date nights\, group outings\, and special celebrations. Tickets sell quickly due to high demand. Reserve early to secure your preferred seats. \nVisit the Arizona Theatre Company website to purchase tickets. Experience the joy\, beauty\, and energy of Ain’t Misbehavin’ live on stage. Don’t miss this dazzling celebration of jazz history.
URL:https://onstageaz.com/event/aint-misbehavin-2/2026-02-05/
LOCATION:Temple of Music and Art\, 330 S Scott Ave\, Tucson\, AZ\, 85701\, United States
CATEGORIES:Stage,Theatrical
ATTACH;FMTTYPE=image/jpeg:https://onstageaz.com/wp-content/uploads/2025/05/8wo-KOL8.jpg
ORGANIZER;CN="Arizona Theatre Company":MAILTO:boxoffice@atc.org
END:VEVENT
END:VCALENDAR