BEGIN:VCALENDAR
VERSION:2.0
PRODID:-//ON Stage Arizona - ECPv6.15.18//NONSGML v1.0//EN
CALSCALE:GREGORIAN
METHOD:PUBLISH
X-WR-CALNAME:ON Stage Arizona
X-ORIGINAL-URL:https://onstageaz.com
X-WR-CALDESC:Events for ON Stage Arizona
REFRESH-INTERVAL;VALUE=DURATION:PT1H
X-Robots-Tag:noindex
X-PUBLISHED-TTL:PT1H
BEGIN:VTIMEZONE
TZID:America/Phoenix
BEGIN:STANDARD
TZOFFSETFROM:-0700
TZOFFSETTO:-0700
TZNAME:MST
DTSTART:20250101T000000
END:STANDARD
END:VTIMEZONE
BEGIN:VEVENT
DTSTART;TZID=America/Phoenix:20260202T100000
DTEND;TZID=America/Phoenix:20260202T170000
DTSTAMP:20260424T114151
CREATED:20251123T231057Z
LAST-MODIFIED:20251123T231057Z
UID:10016422-1770026400-1770051600@onstageaz.com
SUMMARY:Artes Gráficas de Oaxaca: Rodolfo Morales\, Francisco Toledo and Other Graphic Artists: Opening
DESCRIPTION:Rufino Tamayo\, Francisco Toledo\, Rodolfo Morales and Rodolfo Nieto are the pillars of modern artes gráficas in Oaxaca\, Mexico. Their works\, along with works by other other gráfica artists from the collection of Nancy Mayagoitia and her husband Poncho\, will be featured. The couple long have collected prints and paintings representing the rich heritage of artists living in the Mexican state of Oaxaca.
URL:https://onstageaz.com/event/artes-graficas-de-oaxaca-rodolfo-morales-francisco-toledo-and-other-graphic-artists-opening/
LOCATION:AZ
CATEGORIES:Exhibits,Stage
ATTACH;FMTTYPE=image/jpeg:https://onstageaz.com/wp-content/uploads/2025/11/3v0M6G00-1.jpg
ORGANIZER;CN="Pima Arts":MAILTO:centerforthearts@pima.edu
END:VEVENT
END:VCALENDAR