BEGIN:VCALENDAR
VERSION:2.0
PRODID:-//ON Stage Arizona - ECPv6.15.18//NONSGML v1.0//EN
CALSCALE:GREGORIAN
METHOD:PUBLISH
X-WR-CALNAME:ON Stage Arizona
X-ORIGINAL-URL:https://onstageaz.com
X-WR-CALDESC:Events for ON Stage Arizona
REFRESH-INTERVAL;VALUE=DURATION:PT1H
X-Robots-Tag:noindex
X-PUBLISHED-TTL:PT1H
BEGIN:VTIMEZONE
TZID:America/Phoenix
BEGIN:STANDARD
TZOFFSETFROM:-0700
TZOFFSETTO:-0700
TZNAME:MST
DTSTART:20250101T000000
END:STANDARD
END:VTIMEZONE
BEGIN:VEVENT
DTSTART;TZID=America/Phoenix:20260120T190000
DTEND;TZID=America/Phoenix:20260120T210000
DTSTAMP:20260424T125710
CREATED:20250623T234403Z
LAST-MODIFIED:20250623T234403Z
UID:10012916-1768935600-1768942800@onstageaz.com
SUMMARY:Close-Up Vocal Recital Will Liverman\, Baritone
DESCRIPTION:In a “breakout performance” (The New York Times) opening the Met’s 21-22 season\, Liverman headlined the widely celebrated Fire Shut Up in My Bones by Terence Blanchard\, which won the 2023 GRAMMY Award for Best Opera Recording. He has sung with the Metropolitan Opera\, Lyric Opera of Chicago\, San Francisco Opera\, San Francisco Symphony\, New York Festival of Song\, Dutch National Opera\, London Symphony Orchestra and more. Hailed as “glorious” (BBC Music) and “spellbinding\,” (San Francisco Classical Voice) Liverman’s album Show Me The Way was nominated in 2025 for a GRAMMY for Best Classical Solo Vocal Album.
URL:https://onstageaz.com/event/close-up-vocal-recital-will-liverman-baritone/
LOCATION:Holsclaw at the University of Arizona\, 1017 N Olive Rd\, Tucson\, 85719\, United States
CATEGORIES:Music
ATTACH;FMTTYPE=image/jpeg:https://onstageaz.com/wp-content/uploads/2025/05/oAgpbhq8.jpg
ORGANIZER;CN="True Concord Voices & Orchestra":MAILTO:info@TrueConcord.org
END:VEVENT
END:VCALENDAR