BEGIN:VCALENDAR
VERSION:2.0
PRODID:-//ON Stage Arizona - ECPv6.15.18//NONSGML v1.0//EN
CALSCALE:GREGORIAN
METHOD:PUBLISH
X-WR-CALNAME:ON Stage Arizona
X-ORIGINAL-URL:https://onstageaz.com
X-WR-CALDESC:Events for ON Stage Arizona
REFRESH-INTERVAL;VALUE=DURATION:PT1H
X-Robots-Tag:noindex
X-PUBLISHED-TTL:PT1H
BEGIN:VTIMEZONE
TZID:America/Phoenix
BEGIN:STANDARD
TZOFFSETFROM:-0700
TZOFFSETTO:-0700
TZNAME:MST
DTSTART:20250101T000000
END:STANDARD
END:VTIMEZONE
BEGIN:VEVENT
DTSTART;TZID=America/Phoenix:20260109T100000
DTEND;TZID=America/Phoenix:20260109T130000
DTSTAMP:20260424T125715
CREATED:20251123T233318Z
LAST-MODIFIED:20251123T233318Z
UID:10016447-1767952800-1767963600@onstageaz.com
SUMMARY:Exhibit Opening: A Retrospective: Marilyn K. Johnson
DESCRIPTION:A lush oasis in the heart of Tucson offering mature trees and expertly cultivated foliage\, specialty gardens such as the Cactus & Succulent Garden\, Barrio Garden\, and Herb Garden highlight the diversity of native plants. TBG also offers diverse exhibitions in their galleries.
URL:https://onstageaz.com/event/exhibit-opening-a-retrospective-marilyn-k-johnson/
LOCATION:Tucson Botanical Gardens\, 21500 N Alvernon Way\, Tucson\, AZ\, 85716\, United States
CATEGORIES:Exhibits
ATTACH;FMTTYPE=image/jpeg:https://onstageaz.com/wp-content/uploads/2025/11/x9p346IE.jpg
END:VEVENT
BEGIN:VEVENT
DTSTART;TZID=America/Phoenix:20260109T193000
DTEND;TZID=America/Phoenix:20260109T213000
DTSTAMP:20260424T125715
CREATED:20251020T001037Z
LAST-MODIFIED:20251020T001037Z
UID:10016200-1767987000-1767994200@onstageaz.com
SUMMARY:Peter and the Starcatcher
DESCRIPTION:A prequel to Peter Pan\, told with a highly theatrical style. Charged with delivering a magical cargo to a distant shore\, our heroes encounter monsters\, mermaids\, flying crocodiles\, and a villainous pirate named Black Stache\, while learning about friendship\, duty\, and the power of believing in oneself.
URL:https://onstageaz.com/event/peter-and-the-starcatcher/2026-01-09/
LOCATION:The Rogue Theatre\, 300 E University Blvd Suite #150\, Tucson\, AZ\, 85705\, United States
CATEGORIES:Stage,Theatrical
ATTACH;FMTTYPE=image/jpeg:https://onstageaz.com/wp-content/uploads/2025/10/b-8RH6I0.jpg
ORGANIZER;CN="The Rogue Theatre":MAILTO:ticket@TheRogueTheatre.org
END:VEVENT
BEGIN:VEVENT
DTSTART;TZID=America/Phoenix:20260109T193000
DTEND;TZID=America/Phoenix:20260109T215000
DTSTAMP:20260424T125715
CREATED:20250527T204527Z
LAST-MODIFIED:20250527T204527Z
UID:10013178-1767987000-1767995400@onstageaz.com
SUMMARY:The Wiz
DESCRIPTION:The Wiz at Centennial Hall in Tucson\, Arizona \nBroadway in Tucson presents The Wiz at Centennial Hall this season. This groundbreaking twist on The Wizard of Oz revolutionized Broadway with its soul\, gospel\, rock\, and ’70s funk score. Dorothy’s journey unfolds in vibrant color as she seeks her place in a modern world. \nCentennial Hall’s superb acoustics ensure Tchaikovsky-grade clarity for every musical note. Comfortable\, stadium-style seating offers clear sightlines from every row. The venue provides accessible seating and amenities for patrons with disabilities. Convenient parking and public transit options make arrivals stress-free. \nWhether you’re a Broadway aficionado or new to musical theater\, The Wiz offers a joyous\, high-energy experience. Join Dorothy and her friends on the yellow brick road to Emerald City. Don’t miss this soulful\, enchanting production at Centennial Hall in Tucson!
URL:https://onstageaz.com/event/the-wiz-2/2026-01-09/
LOCATION:Centennial Hall\, 1020 E. University Blvd\, Tucson\, AZ\, 85719\, United States
CATEGORIES:Music,Stage,Theatrical
ATTACH;FMTTYPE=image/jpeg:https://onstageaz.com/wp-content/uploads/2025/05/ps5bAQg8.jpg
ORGANIZER;CN="Broadway In Tucson":MAILTO:info@broadwayintucson.com
END:VEVENT
END:VCALENDAR