BEGIN:VCALENDAR
VERSION:2.0
PRODID:-//ON Stage Arizona - ECPv6.15.18//NONSGML v1.0//EN
CALSCALE:GREGORIAN
METHOD:PUBLISH
X-WR-CALNAME:ON Stage Arizona
X-ORIGINAL-URL:https://onstageaz.com
X-WR-CALDESC:Events for ON Stage Arizona
REFRESH-INTERVAL;VALUE=DURATION:PT1H
X-Robots-Tag:noindex
X-PUBLISHED-TTL:PT1H
BEGIN:VTIMEZONE
TZID:America/Phoenix
BEGIN:STANDARD
TZOFFSETFROM:-0700
TZOFFSETTO:-0700
TZNAME:MST
DTSTART:20240101T000000
END:STANDARD
END:VTIMEZONE
BEGIN:VEVENT
DTSTART;TZID=America/Phoenix:20251219T190000
DTEND;TZID=America/Phoenix:20251219T210000
DTSTAMP:20260424T141640
CREATED:20251118T022649Z
LAST-MODIFIED:20251118T022650Z
UID:10013229-1766170800-1766178000@onstageaz.com
SUMMARY:The Nutcracker
DESCRIPTION:
URL:https://onstageaz.com/event/the-nutcracker-3-2/
LOCATION:The Linda Ronstadt Music Hall\, 260 S Church Ave\, Tucson\, AZ\, 85701\, United States
CATEGORIES:Dance,Stage
ATTACH;FMTTYPE=image/jpeg:https://onstageaz.com/wp-content/uploads/2025/05/nhP7ItIM.jpg
ORGANIZER;CN="Ballet Tucson":MAILTO:info@ballettucson.org
END:VEVENT
END:VCALENDAR