BEGIN:VCALENDAR
VERSION:2.0
PRODID:-//ON Stage Arizona - ECPv6.15.18//NONSGML v1.0//EN
CALSCALE:GREGORIAN
METHOD:PUBLISH
X-WR-CALNAME:ON Stage Arizona
X-ORIGINAL-URL:https://onstageaz.com
X-WR-CALDESC:Events for ON Stage Arizona
REFRESH-INTERVAL;VALUE=DURATION:PT1H
X-Robots-Tag:noindex
X-PUBLISHED-TTL:PT1H
BEGIN:VTIMEZONE
TZID:America/Phoenix
BEGIN:STANDARD
TZOFFSETFROM:-0700
TZOFFSETTO:-0700
TZNAME:MST
DTSTART:20240101T000000
END:STANDARD
END:VTIMEZONE
BEGIN:VEVENT
DTSTART;TZID=America/Phoenix:20251216T140000
DTEND;TZID=America/Phoenix:20251216T160000
DTSTAMP:20260424T141640
CREATED:20251118T014213Z
LAST-MODIFIED:20251118T014214Z
UID:10012971-1765893600-1765900800@onstageaz.com
SUMMARY:Heist
DESCRIPTION:Heist at the Temple of Music and Art in Tucson\, Arizona\nArizona Theatre Company presents Heist\, a thrilling new production at the Temple of Music and Art in Tucson\, Arizona. Inspired by iconic caper films like Ocean’s Eleven\, The Italian Job\, and The Sting\, Heist delivers non-stop suspense\, clever twists\, and edge-of-your-seat excitement. \nA team of professional thieves gathers to steal the world’s rarest jewels. Their foolproof plan unravels when unexpected betrayals surface. Double crosses\, cunning disguises\, and daring escapes heighten the tension. Each character harbors hidden motives\, making trust a dangerous gamble. \nKey Production Highlights: \n\n\nFast-Paced Action: Rapid-fire dialogue and thrilling stagecraft keep the audience fully engaged. \n\n\nClever Plot Twists: Surprising reveals ensure you never know who will come out on top. \n\n\nAuthentic Disguises: Skillful costume design transforms the cast into master thieves and deceptive accomplices. \n\n\nDynamic Direction: Arizona Theatre Company’s creative team delivers razor-sharp pacing and suspense. \n\n\nImmersive Set Design: The Temple of Music and Art’s historic stage enhances every daring escape sequence. \n\n\nHeist balances humor and heart-pounding drama. Audiences will gasp at each near miss and laugh at the thieves’ witty banter. As alliances shift and loyalties fracture\, you’ll question every motive and suspect everyone. \nSet against the backdrop of Tucson’s premier performing arts venue\, Heist transforms the Temple of Music and Art into a high-stakes playground of intrigue and deception. The intimate theater setting makes every gasp and gasp-inducing twist feel immediate and personal. \nDon’t miss this adrenaline-fueled ride by Arizona Theatre Company. Heist offers a rollercoaster of drama\, suspense\, and sheer theatrical craftsmanship. Perfect for fans of caper films and live theater alike. \nSecure your seats now at the Temple of Music and Art in downtown Tucson. Experience Heist—a cunning thriller that will keep you guessing long after the final curtain.
URL:https://onstageaz.com/event/heist-9/
LOCATION:Temple of Music and Art\, 330 S Scott Ave\, Tucson\, AZ\, 85701\, United States
CATEGORIES:Stage,Theatrical
ATTACH;FMTTYPE=image/jpeg:https://onstageaz.com/wp-content/uploads/2025/05/Oxg4t6HY.jpg
ORGANIZER;CN="Arizona Theatre Company":MAILTO:boxoffice@atc.org
END:VEVENT
END:VCALENDAR