BEGIN:VCALENDAR
VERSION:2.0
PRODID:-//ON Stage Arizona - ECPv6.15.18//NONSGML v1.0//EN
CALSCALE:GREGORIAN
METHOD:PUBLISH
X-WR-CALNAME:ON Stage Arizona
X-ORIGINAL-URL:https://onstageaz.com
X-WR-CALDESC:Events for ON Stage Arizona
REFRESH-INTERVAL;VALUE=DURATION:PT1H
X-Robots-Tag:noindex
X-PUBLISHED-TTL:PT1H
BEGIN:VTIMEZONE
TZID:America/Phoenix
BEGIN:STANDARD
TZOFFSETFROM:-0700
TZOFFSETTO:-0700
TZNAME:MST
DTSTART:20240101T000000
END:STANDARD
END:VTIMEZONE
BEGIN:VEVENT
DTSTART;TZID=America/Phoenix:20251214T140000
DTEND;TZID=America/Phoenix:20251214T160000
DTSTAMP:20260424T141640
CREATED:20250623T223112Z
LAST-MODIFIED:20250623T223112Z
UID:10013369-1765720800-1765728000@onstageaz.com
SUMMARY:Holidays in Tucson with Calexico & UA Dance
DESCRIPTION:Dance and rock and carols\, oh my! Spend your holidays with the TSO and some familiar Tucson faces. UA Dance performs to Duke EllingtonÕs big band version of the Nutcracker\, and local favorites Calexico return for another TSO collaboration to close out the concert with a combination of their classics and holiday favorites. ItÕs the holidays like only the Old Pueblo can do!
URL:https://onstageaz.com/event/holidays-in-tucson-with-calexico-ua-dance/2025-12-14/
LOCATION:The Linda Ronstadt Music Hall\, 260 S Church Ave\, Tucson\, AZ\, 85701\, United States
CATEGORIES:Music,Stage
ATTACH;FMTTYPE=image/png:https://onstageaz.com/wp-content/uploads/2025/05/Screenshot-2025-06-23-at-3.28.01-PM.png
END:VEVENT
BEGIN:VEVENT
DTSTART;TZID=America/Phoenix:20251214T150000
DTEND;TZID=America/Phoenix:20251214T163000
DTSTAMP:20260424T141640
CREATED:20251105T005939Z
LAST-MODIFIED:20251105T005939Z
UID:10016340-1765724400-1765729800@onstageaz.com
SUMMARY:Peace and Joy Holiday Concerts
DESCRIPTION:Join the Arizona Repertory Singers to celebrate the timeless themes of the season—”Peace and Joy.” The engaging program of 16 choral works ranges from contemplative to exuberant and includes traditional carols\, well-known standards\, and contemporary compositions. \nFrom Renaissance to contemporary works\, you’ll hear the harmonious “In Dulci Jubilo” by Michaël Praetorius\, the new and glorious “Angels We Have Heard On High” by Dan Forrest with string quartet\, Christopher Tin’s “Baba Yetu” from the 2005 hit video game Civilization IV\, “Deck the Hall” by internationally known composer and conductor John Rutter\, and Christine Guter’s dizzying “Dreidel Song” in 7/8. We hope you will join us as part of your holiday tradition for a performance of contemplative and joyful choral music to ring in the season! \nTickets are $22 online\, $25 at the door. Students with ID are admitted free.
URL:https://onstageaz.com/event/peace-and-joy-holiday-concerts/2025-12-14/
LOCATION:Christ Church United Methodist\, 655 N. Craycroft Rd\, Tucson\, 85711
CATEGORIES:Music
ATTACH;FMTTYPE=image/jpeg:https://onstageaz.com/wp-content/uploads/2025/11/PeaceandJoy_OnStage_1920x1080-1.jpg
ORGANIZER;CN="Arizona Repertory Singers":MAILTO:tickets@arsingers.org
END:VEVENT
BEGIN:VEVENT
DTSTART;TZID=America/Phoenix:20251214T150000
DTEND;TZID=America/Phoenix:20251214T163000
DTSTAMP:20260424T141640
CREATED:20251123T230812Z
LAST-MODIFIED:20251123T230812Z
UID:10016421-1765724400-1765729800@onstageaz.com
SUMMARY:Pima Chorale/College Singers: Fall Concert
DESCRIPTION:Immerse yourself in the enchanting melodies of the Chorale & College Singers\, directed by Jonathan Ng\, D.M.A. With a diverse repertoire\, these performances feature a grand mixed-voice choir and an a capella ensemble.
URL:https://onstageaz.com/event/pima-chorale-college-singers-fall-concert/
LOCATION:Pima Community College Center for the Arts\, 2202 W Anklam Rd.\, Tucson\, AZ\, 85709\, United States
CATEGORIES:Music,Stage
ATTACH;FMTTYPE=image/jpeg:https://onstageaz.com/wp-content/uploads/2025/11/pN4I5-nM.jpg
ORGANIZER;CN="Pima Arts":MAILTO:centerforthearts@pima.edu
END:VEVENT
BEGIN:VEVENT
DTSTART;TZID=America/Phoenix:20251214T150000
DTEND;TZID=America/Phoenix:20251214T170000
DTSTAMP:20260424T141641
CREATED:20250623T235254Z
LAST-MODIFIED:20250623T235254Z
UID:10012908-1765724400-1765731600@onstageaz.com
SUMMARY:Lessons & Carols by Candlelight An American Christmas
DESCRIPTION:Beautiful churches\, the warm glow of candlelight\, a peaceful and welcoming space filled with the telling of the Christmas story in word and song. This year’s program features works composed exclusively by American composers and includes a world premiere of the winning work from our national Christmas Carol Competition. Raise your voices on favorite carols in community with the artists\, as together we celebrate the beauty\, awe and joy of the season.
URL:https://onstageaz.com/event/lessons-carols-by-candlelight-an-american-christmas-2/
LOCATION:Northminister Presbyterian Church\, 2450 E Fort Lowell Rd\, Tucson\, AZ\, 85719\, United States
CATEGORIES:Music
ATTACH;FMTTYPE=image/png:https://onstageaz.com/wp-content/uploads/2025/05/Screenshot-2025-06-23-at-4.48.26-PM.png
ORGANIZER;CN="True Concord Voices & Orchestra":MAILTO:info@TrueConcord.org
END:VEVENT
BEGIN:VEVENT
DTSTART;TZID=America/Phoenix:20251214T150000
DTEND;TZID=America/Phoenix:20251214T170000
DTSTAMP:20260424T141641
CREATED:20251015T202725Z
LAST-MODIFIED:20251015T202726Z
UID:10016189-1765724400-1765731600@onstageaz.com
SUMMARY:Winter Jubilee
DESCRIPTION:Fanfare for the Common Man ~ Aaron CoplandSuite for Bluegrass Quartet and Orchestra ~ Phillip Rhodes\nSelections from the Nutcracker ~ Pyotr Ilyich Tchaikovsky\nSophisticated Ladies Medley ~Duke Ellington\nThe Polar Express ~ Alan Silvestri\nand Holiday Favorites
URL:https://onstageaz.com/event/winter-jubilee/
LOCATION:AZ
CATEGORIES:Music,Stage
ATTACH;FMTTYPE=image/jpeg:https://onstageaz.com/wp-content/uploads/2025/10/COT.DEC_.WinterJubilee.SteveRalsten.jpg1920.jpg
ORGANIZER;CN="Civic Orchestra Of Tucson":MAILTO:info@cotmusic.org
END:VEVENT
BEGIN:VEVENT
DTSTART;TZID=America/Phoenix:20251214T190000
DTEND;TZID=America/Phoenix:20251214T210000
DTSTAMP:20260424T141641
CREATED:20250623T235350Z
LAST-MODIFIED:20250623T235350Z
UID:10012909-1765738800-1765746000@onstageaz.com
SUMMARY:Lessons & Carols by Candlelight An American Christmas
DESCRIPTION:Beautiful churches\, the warm glow of candlelight\, a peaceful and welcoming space filled with the telling of the Christmas story in word and song. This year’s program features works composed exclusively by American composers and includes a world premiere of the winning work from our national Christmas Carol Competition. Raise your voices on favorite carols in community with the artists\, as together we celebrate the beauty\, awe and joy of the season.
URL:https://onstageaz.com/event/lessons-carols-by-candlelight-an-american-christmas-4/
LOCATION:St. Albans Episcopal Church\, 3738 N Old Sabino Canyon Rd\, Tucson\, AZ\, 85750\, United States
CATEGORIES:Music
ATTACH;FMTTYPE=image/png:https://onstageaz.com/wp-content/uploads/2025/05/Screenshot-2025-06-23-at-4.48.26-PM.png
ORGANIZER;CN="True Concord Voices & Orchestra":MAILTO:info@TrueConcord.org
END:VEVENT
END:VCALENDAR